BEGIN:VCALENDAR
VERSION:2.0
PRODID:-//ChamberMaster//Event Calendar 2.0//EN
METHOD:PUBLISH
X-PUBLISHED-TTL:P3D
REFRESH-INTERVAL:P3D
CALSCALE:GREGORIAN
BEGIN:VEVENT
DTSTART:20260815T210000Z
DTEND:20260815T230000Z
X-MICROSOFT-CDO-ALLDAYEVENT:FALSE
SUMMARY:Enduring Inspiration
DESCRIPTION:Bringing awareness to our fertile history and the importance of preserving our heritage\, while honoring and nurturing the creativity and inspiration of today\, this joint exhibition with the Provincetown Art Association and Museum (PAAM) to be held at Addison Art Gallery.\n\n \n\nWork by Maryalice Eizenberg\, William Freed\, Lillian Orlowsky\, Andrea Petitto\, Paul Schulenburg and Nancy Webb are included in the exhibit. Work is available as it is completed and posted at addisonart.com.\n\n \n\nLive music by Cape Favorite Sarah Burrill.\n\nPAAM was established in 1914 by a group of artists and townspeople to build a permanent collection of works by artists of outer Cape Cod\, and to exhibit art that would allow for unification within the community. Integral to the community comprising the Provincetown Art Colony\, PAAM embodies the qualities that make Provincetown an enduring American center for the arts\, and serves as Cape Cod's most widely-attended art museum
X-ALT-DESC;FMTTYPE=text/html:<div>Bringing awareness to our fertile history and the importance of preserving our heritage\, while honoring and nurturing the creativity and inspiration of today\, this joint exhibition with the Provincetown Art Association and Museum (PAAM) to be held at Addison Art Gallery.<br />\n&nbsp\;</div>\n\n<div>Work by Maryalice Eizenberg\, William Freed\, Lillian Orlowsky\, Andrea Petitto\, Paul Schulenburg and Nancy Webb are included in the exhibit. Work is available as it is completed and posted at&nbsp\;<a class="x1i10hfl xjbqb8w x1ejq31n x18oe1m7 x1sy0etr xstzfhl x972fbf x10w94by x1qhh985 x14e42zd x9f619 x1ypdohk xt0psk2 x3ct3a4 xdj266r x14z9mp xat24cr x1lziwak xexx8yu xyri2b x18d9i69 x1c1uobl x16tdsg8 x1hl2dhg xggy1nq x1a2a7pz xkrqix3 x1sur9pj x1fey0fg x1s688f" href="http://addisonart.com/?fbclid=IwZXh0bgNhZW0CMTAAYnJpZBExaFFkSmZmYUFYbjZFVXRrVXNydGMGYXBwX2lkEDIyMjAzOTE3ODgyMDA4OTIAAR6RnoD3XK_22DfFGjOaEHBjxvZR47ptDHQGejGs2kAkS3RlW8BaO845Ch2Ohw_aem_gShygPuOPImLLLMEfk3XNg" rel="nofollow noreferrer" style="color: rgb(0\, 100\, 209)\; cursor: pointer\; text-decoration: none\; outline: none\; border-inline-width: 0px\; margin-inline: 0px\; text-align: inherit\; border-inline-style: none\; padding-inline: 0px\; -webkit-tap-highlight-color: transparent\; font-weight: 600\; list-style-type: none\; box-sizing: border-box\; touch-action: manipulation\; background-color: transparent\; display: inline\; padding-bottom: 0px\; border-top-style: none\; border-bottom-width: 0px\; border-bottom-style: none\; border-top-width: 0px\; margin-bottom: 0px\; margin-top: 0px\; padding-top: 0px\; font-family: inherit\;" tabindex="0" target="_blank">addisonart.com.</a><br />\n&nbsp\;</div>\n\n<div>Live music by Cape Favorite Sarah Burrill.<br />\nPAAM was established in 1914 by a group of artists and townspeople to build a permanent collection of works by artists of outer Cape Cod\, and to exhibit art that would allow for unification within the community. Integral to the community comprising the Provincetown Art Colony\, PAAM embodies the qualities that make Provincetown an enduring American center for the arts\, and serves as Cape Cod&rsquo\;s most widely-attended art museum</div>\n
LOCATION:Addison Art Gallery\, 43 South Orleans Road\, Orleans\, MA 02653
UID:e.2118.23836
SEQUENCE:3
DTSTAMP:20260422T143421Z
URL:http://orleanscapecod.chambermaster.com/events/details/enduring-inspiration-23836
END:VEVENT

END:VCALENDAR
